BEGIN:VCALENDAR
VERSION:2.0
PRODID:-//mairie de bapaume - ECPv6.15.20//NONSGML v1.0//EN
CALSCALE:GREGORIAN
METHOD:PUBLISH
X-ORIGINAL-URL:https://bapaume.fr
X-WR-CALDESC:Évènements pour mairie de bapaume
REFRESH-INTERVAL;VALUE=DURATION:PT1H
X-Robots-Tag:noindex
X-PUBLISHED-TTL:PT1H
BEGIN:VTIMEZONE
TZID:Europe/Paris
BEGIN:DAYLIGHT
TZOFFSETFROM:+0100
TZOFFSETTO:+0200
TZNAME:CEST
DTSTART:20250330T010000
END:DAYLIGHT
BEGIN:STANDARD
TZOFFSETFROM:+0200
TZOFFSETTO:+0100
TZNAME:CET
DTSTART:20251026T010000
END:STANDARD
BEGIN:DAYLIGHT
TZOFFSETFROM:+0100
TZOFFSETTO:+0200
TZNAME:CEST
DTSTART:20260329T010000
END:DAYLIGHT
BEGIN:STANDARD
TZOFFSETFROM:+0200
TZOFFSETTO:+0100
TZNAME:CET
DTSTART:20261025T010000
END:STANDARD
BEGIN:DAYLIGHT
TZOFFSETFROM:+0100
TZOFFSETTO:+0200
TZNAME:CEST
DTSTART:20270328T010000
END:DAYLIGHT
BEGIN:STANDARD
TZOFFSETFROM:+0200
TZOFFSETTO:+0100
TZNAME:CET
DTSTART:20271031T010000
END:STANDARD
END:VTIMEZONE
BEGIN:VEVENT
DTSTART;TZID=Europe/Paris:20260116T193000
DTEND;TZID=Europe/Paris:20260116T220000
DTSTAMP:20260421T212747
CREATED:20251217T143215Z
LAST-MODIFIED:20251217T143215Z
UID:2030-1768591800-1768600800@bapaume.fr
SUMMARY:Chasse gardée 2
DESCRIPTION:Deux ans se sont écoulés à Saint Hubert. La vie y est paisible\, peut-être trop pour Adélaïde et Simon qui souffrent du manque d’amis de leur âge. \nC’est sans compter sur l’arrivée de Stanislas\, le fils de Bernard (l’ancien président des chasseurs du village)\, qui revient vivre à la campagne avec sa femme et ses deux enfants. Ils sont beaux\, jeunes\, et sympas. \nLeur seul défaut : ils pratiquent la chasse à courre ! La paix du village va être mise à mal : nouveaux voisins\, nouveaux problèmes… \nBilletterie : Billetterie Weezevent
URL:https://bapaume.fr/event/chasse-gardee-2/
LOCATION:Espace Isabelle de Hainaut\, Rue de Saint-Quentin\, Bapaume\, 62450\, France
ATTACH;FMTTYPE=image/jpeg:https://bapaume.fr/wp-content/uploads/2025/12/57a8c1e690e543eb1f3db1a21fa5884b.jpg
END:VEVENT
BEGIN:VEVENT
DTSTART;TZID=Europe/Paris:20260118T150000
DTEND;TZID=Europe/Paris:20260118T170000
DTSTAMP:20260421T212747
CREATED:20250416T114020Z
LAST-MODIFIED:20250416T114224Z
UID:1242-1768748400-1768755600@bapaume.fr
SUMMARY:Belle-mère à vendre
DESCRIPTION:BELLE-MERE A VENDRE \nUne comédie de Ludovic GIVRON et Philippe AREZKI \nQue serait le mariage sans les belles-mères? Un rêve pour certains\, un cauchemar pour d’autres ! \nDans« BELLE-MERE A VENDRE »\, une comédie haute en couleur\, on découvre une belle-mère acariâtre\, aussi insupportable qu’encombrante\, qui fait de la vie de sa belle-fille un véritable enfer. \nInsensible\, autoritaire et envahissante\, elle n’a que faire des états d’âme de celle qui partage la vie de son fils. \nMais si personne ne voudrait d’une telle belle-mère chez soi\, imaginez un instant … si on pouvait la vendre! \nEntre quiproquos\, retournements de situation et surprises hilarantes\, cette pièce promet des éclats de rire a chaque scène. \nLe personnage se retrouve embarque dans un tourbillon d’évènements aussi absurdes qu’inattendus\, ou chacun tente de tirer son épingle du jeu. \nUne comédie piquante et rythmée qui pose une question universelle: le mariage vaut-il vraiment la peine .. Si c’est pour hériter d’une belle-mère pareille? \nPréparez-vous a un moment mémorable\, pleine de fous rires et de situations irrésistiblement drôles ! \nAvec MURIEL MONTOSSEY \nBilletterie Weezevent \nUniquement en mairie : tarifs réduits 10€ avec justificatif \n\n\nÉtudiants : sur présentation d’une carte étudiante valide.​\n\n\nPersonnes âgées de 65 ans et plus.​\n\n\nDemandeurs d’emploi : sur présentation d’un justificatif récent.\n\n\nBénéficiaires du RSA\, de l’AAH ou de l’ASPA.\n\n\nPersonnes en situation de handicap : détenteurs de la carte mobilité inclusion.\n\n\nLeurs accompagnateurs peuvent également bénéficier de réductions.​\n\n\nLes Familles nombreuses : sur présentation de la carte famille nombreuse.
URL:https://bapaume.fr/event/belle-mere-a-vendre/
LOCATION:Espace Isabelle de Hainaut\, Rue de Saint-Quentin\, Bapaume\, 62450\, France
ATTACH;FMTTYPE=image/png:https://bapaume.fr/wp-content/uploads/2025/04/Affiche.png
END:VEVENT
END:VCALENDAR