BEGIN:VCALENDAR
VERSION:2.0
PRODID:-//mairie de bapaume - ECPv6.15.20//NONSGML v1.0//EN
CALSCALE:GREGORIAN
METHOD:PUBLISH
X-ORIGINAL-URL:https://bapaume.fr
X-WR-CALDESC:Évènements pour mairie de bapaume
REFRESH-INTERVAL;VALUE=DURATION:PT1H
X-Robots-Tag:noindex
X-PUBLISHED-TTL:PT1H
BEGIN:VTIMEZONE
TZID:Europe/Paris
BEGIN:DAYLIGHT
TZOFFSETFROM:+0100
TZOFFSETTO:+0200
TZNAME:CEST
DTSTART:20250330T010000
END:DAYLIGHT
BEGIN:STANDARD
TZOFFSETFROM:+0200
TZOFFSETTO:+0100
TZNAME:CET
DTSTART:20251026T010000
END:STANDARD
BEGIN:DAYLIGHT
TZOFFSETFROM:+0100
TZOFFSETTO:+0200
TZNAME:CEST
DTSTART:20260329T010000
END:DAYLIGHT
BEGIN:STANDARD
TZOFFSETFROM:+0200
TZOFFSETTO:+0100
TZNAME:CET
DTSTART:20261025T010000
END:STANDARD
BEGIN:DAYLIGHT
TZOFFSETFROM:+0100
TZOFFSETTO:+0200
TZNAME:CEST
DTSTART:20270328T010000
END:DAYLIGHT
BEGIN:STANDARD
TZOFFSETFROM:+0200
TZOFFSETTO:+0100
TZNAME:CET
DTSTART:20271031T010000
END:STANDARD
END:VTIMEZONE
BEGIN:VEVENT
DTSTART;TZID=Europe/Paris:20261003T203000
DTEND;TZID=Europe/Paris:20261003T220000
DTSTAMP:20260421T231359
CREATED:20260126T132442Z
LAST-MODIFIED:20260126T132823Z
UID:2284-1791059400-1791064800@bapaume.fr
SUMMARY:BOODER...AH L'ÉCOLE
DESCRIPTION:Après l’énorme succès de “Booder is back”\, Booder a repris\nson cahier et son crayon quatre couleurs pour nous écrire\nun spectacle drôle et touchant sur l’école.\nDe L’école de son enfance à celle de son fils aujourd’hui\,\nil nous brosse avec humour et dérision le portrait du système\nscolaire. Un système en péril qui pourtant est la base du bien \nêtre de nos enfants. Tout y passe : ses copains\, le harcèle-\nment scolaire\, la recré\, ses profs… \nConnu pour les cours particuliers hilarants donnés à son fils\,\nil revient avec\, dans son cartable\, un spectacle pour toute la\nfamille ! \nBilletterie Weezevent
URL:https://bapaume.fr/event/booder-ah-lecole/
LOCATION:Espace Isabelle de Hainaut\, Rue de Saint-Quentin\, Bapaume\, 62450\, France
ATTACH;FMTTYPE=image/jpeg:https://bapaume.fr/wp-content/uploads/2026/01/Booder_AhLEcole_Tournee_Affiche_Logos_HD-scaled.jpg
END:VEVENT
END:VCALENDAR