BEGIN:VCALENDAR
VERSION:2.0
PRODID:-//mairie de bapaume - ECPv6.15.20//NONSGML v1.0//EN
CALSCALE:GREGORIAN
METHOD:PUBLISH
X-WR-CALNAME:mairie de bapaume
X-ORIGINAL-URL:https://bapaume.fr
X-WR-CALDESC:Évènements pour mairie de bapaume
REFRESH-INTERVAL;VALUE=DURATION:PT1H
X-Robots-Tag:noindex
X-PUBLISHED-TTL:PT1H
BEGIN:VTIMEZONE
TZID:Europe/Paris
BEGIN:DAYLIGHT
TZOFFSETFROM:+0100
TZOFFSETTO:+0200
TZNAME:CEST
DTSTART:20250330T010000
END:DAYLIGHT
BEGIN:STANDARD
TZOFFSETFROM:+0200
TZOFFSETTO:+0100
TZNAME:CET
DTSTART:20251026T010000
END:STANDARD
BEGIN:DAYLIGHT
TZOFFSETFROM:+0100
TZOFFSETTO:+0200
TZNAME:CEST
DTSTART:20260329T010000
END:DAYLIGHT
BEGIN:STANDARD
TZOFFSETFROM:+0200
TZOFFSETTO:+0100
TZNAME:CET
DTSTART:20261025T010000
END:STANDARD
BEGIN:DAYLIGHT
TZOFFSETFROM:+0100
TZOFFSETTO:+0200
TZNAME:CEST
DTSTART:20270328T010000
END:DAYLIGHT
BEGIN:STANDARD
TZOFFSETFROM:+0200
TZOFFSETTO:+0100
TZNAME:CET
DTSTART:20271031T010000
END:STANDARD
END:VTIMEZONE
BEGIN:VEVENT
DTSTART;TZID=Europe/Paris:20261119T200000
DTEND;TZID=Europe/Paris:20261119T213000
DTSTAMP:20260422T004415
CREATED:20260408T093331Z
LAST-MODIFIED:20260408T093459Z
UID:2369-1795118400-1795123800@bapaume.fr
SUMMARY:L'Art du Couple
DESCRIPTION:L’Art du Couple\nESPACE CULTUREL ISABELLE DE HAINAUT – Bapaume (62)\n\nRue de Saint Quentin – 62450 BAPAUME\nJeudi 19 novembre 2026 – 20h00\n\nDescription\n\n\n\nS’aimer c’est facile\, mais se supporter ? \nL’amour est une évidence\, mais pour réaliser l’idylle dont on a rêvé\, on a intérêt à s’accrocher. \nUne femme doit-elle faire exploser le transformateur électrique de son quartier pour vivre un dîner aux chandelles ? Pourquoi offrir à sa compagne un livre intitulé « pratiquer le silence » est légèrement risqué ? \nEve et Alex\, ensemble à la ville comme à la scène\, s’amusent avec les zones de turbulence du couple. Authenticité du vécu\, drôlerie des situations quotidiennes\, chacun peut se reconnaître (ou reconnaître l’autre\, tout dépend de son degré de mauvaise foi !). \nUne comédie pétillante et sexy qui booste votre libido. \n\nBilletterie : https://billetterie-coeurdescene.tickandlive.com/reserver/lart-du-couple-66/149515
URL:https://bapaume.fr/event/lart-du-couple/
LOCATION:Espace Isabelle de Hainaut\, Rue de Saint-Quentin\, Bapaume\, 62450\, France
ATTACH;FMTTYPE=image/jpeg:https://bapaume.fr/wp-content/uploads/2026/04/ADC-2026-1119-scaled.jpg
END:VEVENT
END:VCALENDAR